BEGIN:VCALENDAR
VERSION:2.0
CALSCALE:GREGORIAN
PRODID:Steven Smith Enterprises iCalendar Generator
BEGIN:VTIMEZONE
TZID:America/New_York
X-LIC-LOCATION:America/New_York
BEGIN:DAYLIGHT
TZOFFSETFROM:-0500
TZOFFSETTO:-0400
TZNAME:EDT
DTSTART:19700308T020000
RRULE:FREQ=YEARLY;BYMONTH=3;BYDAY=2SU
END:DAYLIGHT
BEGIN:STANDARD
TZOFFSETFROM:-0400
TZOFFSETTO:-0500
TZNAME:EST
DTSTART:19701101T020000
RRULE:FREQ=YEARLY;BYMONTH=11;BYDAY=1SU
END:STANDARD
END:VTIMEZONE
BEGIN:VEVENT
DTSTART;TZID=America/New_York:20130810T140000
DTEND;TZID=America/New_York:20130810T170000
SUMMARY:Pre-Audition Singalong
DESCRIPTION:Come and sing along with the Off-Monroe Players! This is your chance to come hang out and sing before you audition for _Pirates of Penzance_!
LOCATION:Salem United Church of Christ, 60 Bittner Street, Rochester, NY 14604-1124
UID:/events/event/1/
DTSTAMP;TZID=America/New_York:20130810T000000
END:VEVENT
END:VCALENDAR
