BEGIN:VCALENDAR
VERSION:2.0
CALSCALE:GREGORIAN
PRODID:Steven Smith Enterprises iCalendar Generator
BEGIN:VTIMEZONE
TZID:America/New_York
X-LIC-LOCATION:America/New_York
BEGIN:DAYLIGHT
TZOFFSETFROM:-0500
TZOFFSETTO:-0400
TZNAME:EDT
DTSTART:19700308T020000
RRULE:FREQ=YEARLY;BYMONTH=3;BYDAY=2SU
END:DAYLIGHT
BEGIN:STANDARD
TZOFFSETFROM:-0400
TZOFFSETTO:-0500
TZNAME:EST
DTSTART:19701101T020000
RRULE:FREQ=YEARLY;BYMONTH=11;BYDAY=1SU
END:STANDARD
END:VTIMEZONE
BEGIN:VEVENT
DTSTART;TZID=America/New_York:20130920T000000
DTEND;TZID=America/New_York:20130920T235959
SUMMARY:Off-Monroe Players Day
DESCRIPTION:2013 marks the 17th annual Off-Monroe Players Day, as first proclaimed by Rochester mayor Bill Johnson in 1997!  For more information, see the [Off-Monroe Players Day page](/about/ompday/).
UID:/events/event/11/
DTSTAMP;TZID=America/New_York:20130920T000000
END:VEVENT
END:VCALENDAR
