BEGIN:VCALENDAR
VERSION:2.0
CALSCALE:GREGORIAN
PRODID:Steven Smith Enterprises iCalendar Generator
BEGIN:VTIMEZONE
TZID:America/New_York
X-LIC-LOCATION:America/New_York
BEGIN:DAYLIGHT
TZOFFSETFROM:-0500
TZOFFSETTO:-0400
TZNAME:EDT
DTSTART:19700308T020000
RRULE:FREQ=YEARLY;BYMONTH=3;BYDAY=2SU
END:DAYLIGHT
BEGIN:STANDARD
TZOFFSETFROM:-0400
TZOFFSETTO:-0500
TZNAME:EST
DTSTART:19701101T020000
RRULE:FREQ=YEARLY;BYMONTH=11;BYDAY=1SU
END:STANDARD
END:VTIMEZONE
BEGIN:VEVENT
DTSTART;TZID=America/New_York:20160109T110000
DTEND;TZID=America/New_York:20160109T140000
SUMMARY:OMP 2016 Winter Membership Meeting
DESCRIPTION:What to Bring: A dish to pass, and any drinks you may want (no alcohol, please).
OMP will be providing an assortment of wrapped sandwiches. RSVP: To amandalobaugh@aol.com by this Thursday, 1/7/16
LOCATION:Christ the Good Shepherd Lutheran Church, 1000 Winton Road North, Rochester, NY 14609-6832
UID:/events/event/19/
DTSTAMP;TZID=America/New_York:20160109T000000
END:VEVENT
END:VCALENDAR
