BEGIN:VCALENDAR
VERSION:2.0
CALSCALE:GREGORIAN
PRODID:Steven Smith Enterprises iCalendar Generator
BEGIN:VTIMEZONE
TZID:America/New_York
X-LIC-LOCATION:America/New_York
BEGIN:DAYLIGHT
TZOFFSETFROM:-0500
TZOFFSETTO:-0400
TZNAME:EDT
DTSTART:19700308T020000
RRULE:FREQ=YEARLY;BYMONTH=3;BYDAY=2SU
END:DAYLIGHT
BEGIN:STANDARD
TZOFFSETFROM:-0400
TZOFFSETTO:-0500
TZNAME:EST
DTSTART:19701101T020000
RRULE:FREQ=YEARLY;BYMONTH=11;BYDAY=1SU
END:STANDARD
END:VTIMEZONE
BEGIN:VEVENT
DTSTART;TZID=America/New_York:20130814T190000
DTEND;TZID=America/New_York:20130814T210000
SUMMARY:Auditions for "Pirates of Penzance"
DESCRIPTION:Can a young man escape his terrible fate and win the love a beautiful girl?  That depends on the Pirate king (and his band), an elderly nursemaid, a Major General (the very model of) and his daughters, and a band of bumbling policemen.

Come audition for our production!  But, if you want to be in the chorus, no auditions are required!
LOCATION:Salem United Church of Christ, 60 Bittner Street, Rochester, NY 14604-1124
UID:/events/event/3/
DTSTAMP;TZID=America/New_York:20130814T000000
END:VEVENT
END:VCALENDAR
